BEGIN:VCALENDAR
CALSCALE:GREGORIAN
VERSION:2.0
PRODID:-//BBC Sport//Formula 1//EN
METHOD:PUBLISH
X-WR-CALNAME;VALUE=TEXT:Formula 1 Race Calendar
X-WR-CALDESC;VALUE=TEXT:Practice, Qualifying and Race sessions
X-WR-TIMEZONE;VALUE=TEXT:UTC

BEGIN:VEVENT
UID:20110327T060000Z@news.bbc.co.uk
DTSTART:20110327T060000Z
DTEND:20110327T090000Z
SUMMARY:Australian Grand Prix Race
DTSTAMP:20110613T101909Z
DESCRIPTION:BBC coverage (*UK): Online, BBC1, 5live\nGrand Prix Broadcast Information:for more details go to:\nwww.bbc.co.uk/f1
LOCATION:Albert Park, Melbourne, Australia
URL:http://www.bbc.co.uk/formula1
CATEGORIES:SPORT, FORMULA ONE
END:VEVENT

BEGIN:VEVENT
UID:20110410T080000Z@news.bbc.co.uk
DTSTART:20110410T080000Z
DTEND:20110410T110000Z
SUMMARY:Malaysian Grand Prix Race
DTSTAMP:20110613T101909Z
DESCRIPTION:BBC coverage (*UK): Online, BBC1, 5live\nGrand Prix Broadcast Information:for more details go to:\nwww.bbc.co.uk/f1
LOCATION:Sepang International Circuit, Kuala Lumpur, Malaysia
URL:http://www.bbc.co.uk/formula1
CATEGORIES:SPORT, FORMULA ONE
END:VEVENT

BEGIN:VEVENT
UID:20110417T070000Z@news.bbc.co.uk
DTSTART:20110417T070000Z
DTEND:20110417T100000Z
SUMMARY:Chinese Grand Prix Race
DTSTAMP:20110613T101909Z
DESCRIPTION:BBC coverage (*UK): Online, BBC1, 5live\nGrand Prix Broadcast Information:for more details go to:\nwww.bbc.co.uk/f1
LOCATION:Shanghai International Circuit, Shanghai, China
URL:http://www.bbc.co.uk/formula1
CATEGORIES:SPORT, FORMULA ONE
END:VEVENT

BEGIN:VEVENT
UID:20110508T120000Z@news.bbc.co.uk
DTSTART:20110508T120000Z
DTEND:20110508T150000Z
SUMMARY:Turkish Grand Prix Race
DTSTAMP:20110613T101909Z
DESCRIPTION:BBC coverage (*UK): Online, BBC1, 5live\nGrand Prix Broadcast Information:for more details go to:\nwww.bbc.co.uk/f1
LOCATION:Istanbul Park, Istanbul, Turkey
URL:http://www.bbc.co.uk/formula1
CATEGORIES:SPORT, FORMULA ONE
END:VEVENT

BEGIN:VEVENT
UID:20110522T120000Z@news.bbc.co.uk
DTSTART:20110522T120000Z
DTEND:20110522T150000Z
SUMMARY:Spanish Grand Prix Race
DTSTAMP:20110613T101909Z
DESCRIPTION:BBC coverage (*UK): Online, BBC1, 5live\nGrand Prix Broadcast Information:for more details go to:\nwww.bbc.co.uk/f1
LOCATION:Circuit de Catalunya, Barcelona, Spain
URL:http://www.bbc.co.uk/formula1
CATEGORIES:SPORT, FORMULA ONE
END:VEVENT

BEGIN:VEVENT
UID:20110529T120000Z@news.bbc.co.uk
DTSTART:20110529T120000Z
DTEND:20110529T150000Z
SUMMARY:Monaco Grand Prix Race
DTSTAMP:20110613T101909Z
DESCRIPTION:BBC coverage (*UK): Online, BBC1, 5live\nGrand Prix Broadcast Information:for more details go to:\nwww.bbc.co.uk/f1
LOCATION:Monte Carlo Circuit, Monaco
URL:http://www.bbc.co.uk/formula1
CATEGORIES:SPORT, FORMULA ONE
END:VEVENT

BEGIN:VEVENT
UID:20110612T170000Z@news.bbc.co.uk
DTSTART:20110612T170000Z
DTEND:20110612T200000Z
SUMMARY:Canada Grand Prix Race
DTSTAMP:20110613T101909Z
DESCRIPTION:BBC coverage (*UK): Online, BBC1, 5live\nGrand Prix Broadcast Information:for more details go to:\nwww.bbc.co.uk/f1
LOCATION:Circuit Gilles Villeneuve, Montreal, Canada
URL:http://www.bbc.co.uk/formula1
CATEGORIES:SPORT, FORMULA ONE
END:VEVENT

BEGIN:VEVENT
UID:20110626T120000Z@news.bbc.co.uk
DTSTART:20110626T120000Z
DTEND:20110626T150000Z
SUMMARY:European Grand Prix Race
DTSTAMP:20110613T101909Z
DESCRIPTION:BBC coverage (*UK): Online, BBC1, 5live\nGrand Prix Broadcast Information:for more details go to:\nwww.bbc.co.uk/f1
LOCATION:Valencia, Spain
URL:http://www.bbc.co.uk/formula1
CATEGORIES:SPORT, FORMULA ONE
END:VEVENT

BEGIN:VEVENT
UID:20110710T120000Z@news.bbc.co.uk
DTSTART:20110710T120000Z
DTEND:20110710T150000Z
SUMMARY:British Grand Prix Race
DTSTAMP:20110613T101909Z
DESCRIPTION:BBC coverage (*UK): Online, BBC1, 5live\nGrand Prix Broadcast Information:for more details go to:\nwww.bbc.co.uk/f1
LOCATION:Silverstone Circuit, Northamptonshire, Great Britain
URL:http://www.bbc.co.uk/formula1
CATEGORIES:SPORT, FORMULA ONE
END:VEVENT

BEGIN:VEVENT
UID:20110724T120000Z@news.bbc.co.uk
DTSTART:20110724T120000Z
DTEND:20110724T150000Z
SUMMARY:German Grand Prix Race
DTSTAMP:20110613T101909Z
DESCRIPTION:BBC coverage (*UK): Online, BBC1, 5live\nGrand Prix Broadcast Information:for more details go to:\nwww.bbc.co.uk/f1
LOCATION:Nurburgring, Germany
URL:http://www.bbc.co.uk/formula1
CATEGORIES:SPORT, FORMULA ONE
END:VEVENT

BEGIN:VEVENT
UID:20110731T120000Z@news.bbc.co.uk
DTSTART:20110731T120000Z
DTEND:20110731T150000Z
SUMMARY:Hungarian Grand Prix Race
DTSTAMP:20110613T101909Z
DESCRIPTION:BBC coverage (*UK): Online, BBC1, 5live\nGrand Prix Broadcast Information:for more details go to:\nwww.bbc.co.uk/f1
LOCATION:Hungaroring, Budapest, Hungary
URL:http://www.bbc.co.uk/formula1
CATEGORIES:SPORT, FORMULA ONE
END:VEVENT

BEGIN:VEVENT
UID:20110828T120000Z@news.bbc.co.uk
DTSTART:20110828T120000Z
DTEND:20110828T150000Z
SUMMARY:Belgian Grand Prix Race
DTSTAMP:20110613T101909Z
DESCRIPTION:BBC coverage (*UK): Online, BBC1, 5live\nGrand Prix Broadcast Information:for more details go to:\nwww.bbc.co.uk/f1
LOCATION:Spa-Francorchamps Circuit, Belgium
URL:http://www.bbc.co.uk/formula1
CATEGORIES:SPORT, FORMULA ONE
END:VEVENT

BEGIN:VEVENT
UID:20110911T120000Z@news.bbc.co.uk
DTSTART:20110911T120000Z
DTEND:20110911T150000Z
SUMMARY:Italian Grand Prix Race
DTSTAMP:20110613T101909Z
DESCRIPTION:BBC coverage (*UK): Online, BBC1, 5live\nGrand Prix Broadcast Information:for more details go to:\nwww.bbc.co.uk/f1
LOCATION:Monza, Italy
URL:http://www.bbc.co.uk/formula1
CATEGORIES:SPORT, FORMULA ONE
END:VEVENT

BEGIN:VEVENT
UID:20110925T120000Z@news.bbc.co.uk
DTSTART:20110925T120000Z
DTEND:20110925T150000Z
SUMMARY:Singaporean Grand Prix Race
DTSTAMP:20110613T101909Z
DESCRIPTION:BBC coverage (*UK): Online, BBC1, 5live\nGrand Prix Broadcast Information:for more details go to:\nwww.bbc.co.uk/f1
LOCATION:Marina Bay, Singapore
URL:http://www.bbc.co.uk/formula1
CATEGORIES:SPORT, FORMULA ONE
END:VEVENT

BEGIN:VEVENT
UID:20111009T060000Z@news.bbc.co.uk
DTSTART:20111009T060000Z
DTEND:20111009T090000Z
SUMMARY:Japanese Grand Prix Race
DTSTAMP:20110613T101909Z
DESCRIPTION:BBC coverage (*UK): Online, BBC1, 5live\nGrand Prix Broadcast Information:for more details go to:\nwww.bbc.co.uk/f1
LOCATION:Suzuka Circuit, Japan
URL:http://www.bbc.co.uk/formula1
CATEGORIES:SPORT, FORMULA ONE
END:VEVENT

BEGIN:VEVENT
UID:20111016T060000Z@news.bbc.co.uk
DTSTART:20111016T060000Z
DTEND:20111016T090000Z
SUMMARY:Korea Grand Prix Race
DTSTAMP:20110613T101909Z
DESCRIPTION:BBC coverage (*UK): Online, BBC1, 5live\nGrand Prix Broadcast Information:for more details go to:\nwww.bbc.co.uk/f1
LOCATION:Korean International Circuit, Yeongam, Korea
URL:http://www.bbc.co.uk/formula1
CATEGORIES:SPORT, FORMULA ONE
END:VEVENT

BEGIN:VEVENT
UID:20111113T130000Z@news.bbc.co.uk
DTSTART:20111113T130000Z
DTEND:20111113T160000Z
SUMMARY:Abu Dhabi Grand Prix Race
DTSTAMP:20110613T101909Z
DESCRIPTION:BBC coverage (*UK): Online, BBC1, 5live\nGrand Prix Broadcast Information:for more details go to:\nwww.bbc.co.uk/f1
LOCATION:Yas Marina, Abu Dhabi
URL:http://www.bbc.co.uk/formula1
CATEGORIES:SPORT, FORMULA ONE
END:VEVENT

BEGIN:VEVENT
UID:20111127T160000Z@news.bbc.co.uk
DTSTART:20111127T160000Z
DTEND:20111127T190000Z
SUMMARY:Brazilian Grand Prix Race
DTSTAMP:20110613T101909Z
DESCRIPTION:BBC coverage (*UK): Online, BBC1, 5live\nGrand Prix Broadcast Information:for more details go to:\nwww.bbc.co.uk/f1
LOCATION:Interlagos, Sao Paulo, Brazil
URL:http://www.bbc.co.uk/formula1
CATEGORIES:SPORT, FORMULA ONE
END:VEVENT

BEGIN:VEVENT
UID:20111030T093000Z@news.bbc.co.uk
DTSTART:20111030T093000Z
DTEND:20111030T123000Z
SUMMARY:Indian Grand Prix Race
DTSTAMP:20110613T101909Z
DESCRIPTION:BBC coverage (*UK): Online, BBC1, 5live\nGrand Prix Broadcast Information:for more details go to:\nwww.bbc.co.uk/f1
LOCATION:Jaypee International Race Circuit, Greater Noida, India
URL:http://www.bbc.co.uk/formula1
CATEGORIES:SPORT, FORMULA ONE
END:VEVENT

END:VCALENDAR